BEGIN:VCALENDAR
VERSION:2.0
PRODID:-//VisionLA Fest - ECPv6.15.20//NONSGML v1.0//EN
CALSCALE:GREGORIAN
METHOD:PUBLISH
X-ORIGINAL-URL:http://visionlafest.org
X-WR-CALDESC:Events for VisionLA Fest
REFRESH-INTERVAL;VALUE=DURATION:PT1H
X-Robots-Tag:noindex
X-PUBLISHED-TTL:PT1H
BEGIN:VTIMEZONE
TZID:America/Los_Angeles
BEGIN:DAYLIGHT
TZOFFSETFROM:-0800
TZOFFSETTO:-0700
TZNAME:PDT
DTSTART:20140309T100000
END:DAYLIGHT
BEGIN:STANDARD
TZOFFSETFROM:-0700
TZOFFSETTO:-0800
TZNAME:PST
DTSTART:20141102T090000
END:STANDARD
BEGIN:DAYLIGHT
TZOFFSETFROM:-0800
TZOFFSETTO:-0700
TZNAME:PDT
DTSTART:20150308T100000
END:DAYLIGHT
BEGIN:STANDARD
TZOFFSETFROM:-0700
TZOFFSETTO:-0800
TZNAME:PST
DTSTART:20151101T090000
END:STANDARD
BEGIN:DAYLIGHT
TZOFFSETFROM:-0800
TZOFFSETTO:-0700
TZNAME:PDT
DTSTART:20160313T100000
END:DAYLIGHT
BEGIN:STANDARD
TZOFFSETFROM:-0700
TZOFFSETTO:-0800
TZNAME:PST
DTSTART:20161106T090000
END:STANDARD
END:VTIMEZONE
BEGIN:VEVENT
DTSTART;TZID=America/Los_Angeles:20151211T190000
DTEND;TZID=America/Los_Angeles:20151211T230000
DTSTAMP:20260423T163311
CREATED:20151113T225252Z
LAST-MODIFIED:20151209T020430Z
UID:1435-1449860400-1449874800@visionlafest.org
SUMMARY:Arts Earth Partnership presents ENVISION: Closing Celebration of VisionLA'15 Fest
DESCRIPTION:Envision is the closing celebration for VisionLAFest. It is a convergence of\nartists\, environmentalists and concerned citizens from all across Los\nAngeles who believe the creativity and ingenuity of the Arts &\nCultural sector can help manifest a truly sustainable future. Join us as\nwe celebrate our collective efforts\, recognize some of the artists and\nproducers who have presented work at VisionLA Fest and award local\nleaders for their passionate stewardship of our environment. Awardees\ninclude Nurit Katz\, Chief Sustainability Officer for UCLA and Romel\nPascual\, Executive Director of CicLAvia. \nThe event will feature music from DJ Jedi as well as a full installation\ndance / concert from Los Angeles based String Theory Productions.\nL.A.’s Poet Laureate Luis J. Rodriguez will kick the evening off with an\noriginal piece. We will have Mama’s Tamales and open bars serving\nwine and beer\, all free with the price of admission. This will be a\nZERO WASTE event and is hosted by Arts Earth Partnership authors of\nthe first state recognized arts and cultural green business\ncertification program in the world. Come mingle\, network and help\ncelebrate the transformative power of the arts. \nTickets: $50 general admission \nClick here for tickets.
URL:http://visionlafest.org/event/arts-earth-partnership-presents-envision-closing-celebration-of-visionla15-fest/
LOCATION:Plaza de Culturas Y Artes\, 501 N Main St\, Los Angeles\, CA\, 90012\, United States
CATEGORIES:DJ,Featured,Literary,Live music,Music,Performance,Poetry,Special Events,Spoken word
ATTACH;FMTTYPE=image/jpeg:http://visionlafest.org/wp-content/uploads/2015/11/ENVISIONpromophoto.jpg
END:VEVENT
BEGIN:VEVENT
DTSTART;TZID=America/Los_Angeles:20151210T180000
DTEND;TZID=America/Los_Angeles:20151210T220000
DTSTAMP:20260423T163311
CREATED:20151205T015802Z
LAST-MODIFIED:20151207T210323Z
UID:2046-1449770400-1449784800@visionlafest.org
SUMMARY:Art Makes Change Closing Reception
DESCRIPTION:Last chance to see the incredible Art Makes Change VisionLA ’15 Fine Arts Exhibit\, plus party with the artists and friends of the exhibition!  Enjoy wine\, beer and fantastic performances. \nFeaturing a performance art piece “Push and Pull” by Nicolette Spear\, founder of the Body Fine Art body painting organization. Based on the concept of climate change awareness as the first step to including nature in the future technologies of humankind\, the performance is Inspired by her painting “Paradox” and the song “Medicine for the People” by Nakho Bear. “Push and Pull” includes body painted acrobats playing off of each other in a powerful crescendo towards a state of equilibrium. \nAlso – Performance Art by Artist Beth Elliot and others TBD. \nImage: Edge by Catherine Ruane\, on view in the exhibition.
URL:http://visionlafest.org/event/art-makes-change-closing-reception/
LOCATION:VisionLA Home Gallery – Bergamot Station\, 2525 Michigan Ave\, Building G1\, Santa Monica\, CA\, 90404\, United States
CATEGORIES:Art exhibit,DJ,Featured,Gallery show,Graphic design,Home Gallery Events,Installation,Music,Performance,Photography,Recycled art,Special Events,Visual art
ATTACH;FMTTYPE=image/jpeg:http://visionlafest.org/wp-content/uploads/2015/12/Edge_web.jpeg
ORGANIZER;CN="VisionLA Fest":MAILTO:info@visionlafest.org
END:VEVENT
BEGIN:VEVENT
DTSTART;TZID=America/Los_Angeles:20151130T180000
DTEND;TZID=America/Los_Angeles:20151130T220000
DTSTAMP:20260423T163311
CREATED:20151115T185830Z
LAST-MODIFIED:20151128T214055Z
UID:1580-1448906400-1448920800@visionlafest.org
SUMMARY:VisionLA Fest Gala Opening
DESCRIPTION:Join us for a celebration of the Power of Art to Make Change at our Gala Opening party for the VisionLA ’15 Climate Action Arts Festival.  This opening event will launch LA’s first city-wide climate action arts festival and is also the opening gala for our wonderful ART MAKES CHANGE fine art exhibition\, curated by Dale Youngman and Lilli Muller. \nEnjoy the sounds of DJ Jeremy Sole (KCRW)\, a performance by Domes\, beer and wine\, organic food trucks\, great art…and some ideas on ways to save the planet — what could be better?  It’s the perfect way to find out more about what’s going on with the festival.. and to join us in the call for a strong response to climate change\, and our future sustainable L.A. \nTickets $20 will support the nonprofit work of VisionLA Fest\, dedicated to engaging art makers and art lovers in the vision of a sustainable future. \nFree parking: in the lot and street.
URL:http://visionlafest.org/event/visionla-fest-gala-opening/
LOCATION:VisionLA Home Gallery – Bergamot Station\, 2525 Michigan Ave\, Building G1\, Santa Monica\, CA\, 90404\, United States
CATEGORIES:Art exhibit,DJ,Featured,Gallery show,Graphic design,Installation,Music,Performance,Photography,Recycled art,Visual art
ATTACH;FMTTYPE=image/jpeg:http://visionlafest.org/wp-content/uploads/2015/11/VisionLA-Board-Master.jpg
ORGANIZER;CN="VisionLA Fest":MAILTO:info@visionlafest.org
END:VEVENT
END:VCALENDAR