BEGIN:VCALENDAR
VERSION:2.0
PRODID:-//VisionLA Fest - ECPv6.15.20//NONSGML v1.0//EN
CALSCALE:GREGORIAN
METHOD:PUBLISH
X-WR-CALNAME:VisionLA Fest
X-ORIGINAL-URL:http://visionlafest.org
X-WR-CALDESC:Events for VisionLA Fest
REFRESH-INTERVAL;VALUE=DURATION:PT1H
X-Robots-Tag:noindex
X-PUBLISHED-TTL:PT1H
BEGIN:VTIMEZONE
TZID:America/Los_Angeles
BEGIN:DAYLIGHT
TZOFFSETFROM:-0800
TZOFFSETTO:-0700
TZNAME:PDT
DTSTART:20140309T100000
END:DAYLIGHT
BEGIN:STANDARD
TZOFFSETFROM:-0700
TZOFFSETTO:-0800
TZNAME:PST
DTSTART:20141102T090000
END:STANDARD
BEGIN:DAYLIGHT
TZOFFSETFROM:-0800
TZOFFSETTO:-0700
TZNAME:PDT
DTSTART:20150308T100000
END:DAYLIGHT
BEGIN:STANDARD
TZOFFSETFROM:-0700
TZOFFSETTO:-0800
TZNAME:PST
DTSTART:20151101T090000
END:STANDARD
BEGIN:DAYLIGHT
TZOFFSETFROM:-0800
TZOFFSETTO:-0700
TZNAME:PDT
DTSTART:20160313T100000
END:DAYLIGHT
BEGIN:STANDARD
TZOFFSETFROM:-0700
TZOFFSETTO:-0800
TZNAME:PST
DTSTART:20161106T090000
END:STANDARD
END:VTIMEZONE
BEGIN:VEVENT
DTSTART;TZID=America/Los_Angeles:20151209T193000
DTEND;TZID=America/Los_Angeles:20151209T193000
DTSTAMP:20260421T145932
CREATED:20151116T024005Z
LAST-MODIFIED:20151128T200257Z
UID:1607-1449689400-1449689400@visionlafest.org
SUMMARY:Disappearing Waters
DESCRIPTION:Disappearing Waters is part of the Concert for the Climate music event at the L.A. First Congregational Church. The piece is a collaborative piano and video exploration of Southern California’s evaporating lakes and rivers. Using aerial drone photography\, artist Lori Pond creates beautiful\, haunting\, revealing images of the devastation brought on by the current drought ravaging the waterways of our state. Vicki Ray’s piano underscoring uses famous “water” pieces form the repertoire and gradually “depletes” their supply of notes and richness over the course of the film. \nThe current state of drought is in direct relation to the climate crisis facing our state\, our nation\, our world. By viewing these evaporating waters from above\, one begins to sense their relation to the surrounding environment in broader terms. To see a shore recede while viewing it from ground level is one thing but to experience the shrinkage from above enters our psyche on deeper\, more visceral level. We hope help raise awareness about the loss of these beautiful waters through our work and to inspire people to action. \nTickets are free but space is limited.  Please make a reservation to secure a seat.
URL:http://visionlafest.org/event/disappearing-waters/
LOCATION:First Congregational Church\, 540 S Commonwealth Ave\, Los Angeles\, CA\, 90020\, United States
CATEGORIES:Live music,Music,Performance,Video
ATTACH;FMTTYPE=image/jpeg:http://visionlafest.org/wp-content/uploads/2015/11/VickyRay.jpg
END:VEVENT
BEGIN:VEVENT
DTSTART;TZID=America/Los_Angeles:20151209T193000
DTEND;TZID=America/Los_Angeles:20151209T193000
DTSTAMP:20260421T145932
CREATED:20151115T182417Z
LAST-MODIFIED:20151207T210243Z
UID:1567-1449689400-1449689400@visionlafest.org
SUMMARY:Concert for the Climate
DESCRIPTION:VisionLA ’15 is proud to present Concert for the Climate\, a classical and new music event at the beautiful and historic chapel space of the First Congregational Church of Los Angeles.  The concert will feature Vicki Ray (California E.A.R. unit\, L.A. Phil.) premiering Disappearing Waters\, a piano piece with video projection by Lori Pond; the Street Symphony featuring members of the L.A. Philharmonic; and Don Preston (of the Mothers of Invention) performing on organ. The evening will be framed by a panel discussion about the role of music and art in general in the climate movement and broad social change\, moderated by Rev. Colglazier of the First Congregational.  Please join us for this not-to-be-missed event! \nTickets are free but space is limited.  Please make a reservation to secure a seat.
URL:http://visionlafest.org/event/concert-for-the-climate/
LOCATION:First Congregational Church\, 540 S Commonwealth Ave\, Los Angeles\, CA\, 90020\, United States
CATEGORIES:Family friendly,Featured,Live music,Multimedia,Music,Panel discussion,Performance,Special Events,Video
ATTACH;FMTTYPE=image/jpeg:http://visionlafest.org/wp-content/uploads/2015/11/VickyRay.jpg
ORGANIZER;CN="VisionLA Fest":MAILTO:info@visionlafest.org
END:VEVENT
BEGIN:VEVENT
DTSTART;TZID=America/Los_Angeles:20151206T130000
DTEND;TZID=America/Los_Angeles:20151206T130000
DTSTAMP:20260421T145932
CREATED:20151113T225253Z
LAST-MODIFIED:20151130T223422Z
UID:1453-1449406800-1449406800@visionlafest.org
SUMMARY:The League of Imaginary Scientists
DESCRIPTION:A performance intervention that offers post-Earth therapy for the ultimate form of separation anxiety. The art and science collective takes on the foremost global warming malady – one person at a time. You think you’ve got receding glaciers? Get a Grogaine prescription for your icecaps. Planetary doldrums? The League will lighten your mood. Whatever your affliction\, look to a more grounded future with the League of Imaginary Scientists. Step right up and regain your sense of balance\, while getting a lesson on the proper construction of a sandwich. \nSaving planet Earth on a Sunday afternoon – easy. \nTickets are free but space is limited.  Please make a reservation to secure a seat.
URL:http://visionlafest.org/event/league-of-imaginary-scientists/
LOCATION:Armory Center for the Arts\, 145 N Raymond Ave\, Pasadena\, CA\, 91103\, United States
CATEGORIES:Featured,Multimedia,Performance,Video
ATTACH;FMTTYPE=image/jpeg:http://visionlafest.org/wp-content/uploads/2015/11/07_League.jpg
END:VEVENT
BEGIN:VEVENT
DTSTART;TZID=America/Los_Angeles:20151206T110000
DTEND;TZID=America/Los_Angeles:20151206T110000
DTSTAMP:20260421T145932
CREATED:20151122T052113Z
LAST-MODIFIED:20151122T052113Z
UID:1806-1449399600-1449399600@visionlafest.org
SUMMARY:The Monsanto Years
DESCRIPTION:US 2015 7 mins.  Director Bernard Shakey \nThe Monsanto Years is a song from the thirty-sixth studio album by Canadian singer-songwriter and activist Neil Young. This song of the same named concept album criticizes Big Box stores & Big Ag businesses including Monsanto among many other climate change issues. Sing along for the healing has begun! \nScreens with: Earthaluhia! Simulcast with Rev. Billy
URL:http://visionlafest.org/event/the-monsanto-years/
LOCATION:Armory Center for the Arts\, 145 N Raymond Ave\, Pasadena\, CA\, 91103\, United States
CATEGORIES:Film,Video,VLAF Film Series
ATTACH;FMTTYPE=image/jpeg:http://visionlafest.org/wp-content/uploads/2015/11/monsanto-years.jpg
END:VEVENT
BEGIN:VEVENT
DTSTART;TZID=America/Los_Angeles:20151206T110000
DTEND;TZID=America/Los_Angeles:20151206T110000
DTSTAMP:20260421T145932
CREATED:20151122T051504Z
LAST-MODIFIED:20151128T213319Z
UID:1804-1449399600-1449399600@visionlafest.org
SUMMARY:Earthaluhia! Simulcast of Reverend Billy & the Stop Shopping Choir
DESCRIPTION:Join our Fabulous Worship via simulcast all the way from New York City! \nReverend Billy & The Stop Shopping Choir is a radical performance community based in New York City\, with 50 performing members and a congregation in the thousands. \nRev. Billy and The Stop Shopping Choir are wildly engaging anti-consumerist gospel shouters and Earth-loving urban activists who have worked with communities on four continents defending community\, life and imagination. Their Devils over the past 15 years have remained the same: Consumerism and Militarism. In this time of the Earth’s crisis they are especially mindful of the extractive imperatives of global capital. \nTheir songs and sermon soothe the souls of even the staunchest secularists. They compel action in those who have never been activists\, revive exhausted activists\, and devise new methods for future activism. They also put on a great show. \nCome On Down and bring the kids! \nScreens with: The Monsanto Years \nTickets are free but space is limited.  Please make a reservation to secure a seat.
URL:http://visionlafest.org/event/earthaluhia-simulcast-of-reverend-billy-the-stop-shopping-choir/
LOCATION:Armory Center for the Arts\, 145 N Raymond Ave\, Pasadena\, CA\, 91103\, United States
CATEGORIES:Family friendly,Film,Kids,Video,VLAF Film Series
ATTACH;FMTTYPE=image/jpeg:http://visionlafest.org/wp-content/uploads/2015/11/RevBilly_021.jpg
END:VEVENT
BEGIN:VEVENT
DTSTART;TZID=America/Los_Angeles:20151205T190000
DTEND;TZID=America/Los_Angeles:20151205T190000
DTSTAMP:20260421T145932
CREATED:20151122T071739Z
LAST-MODIFIED:20151130T041532Z
UID:1809-1449342000-1449342000@visionlafest.org
SUMMARY:Move the World DanceActivism presents Consumed
DESCRIPTION:Move the World is a youth performing group ages 9-19 that blends art with social change. They create unique dance pieces focus on a social and environmental messages \, inspiring the audience to think and to act. \nConsumed is a live dance piece that incorporates dance\,  a film backdrop\, and aerials silks. Consumed challenges the audience and those performing to consider our habits around purchasing and consuming products in order to fit in and measure up. The lead character travels through his own process of avid youth consumerism\, confronting his addiction\, social status and arrives at a more thoughtful and sustainable place. \nTickets are free but space is limited.  Please make a reservation to secure a seat.
URL:http://visionlafest.org/event/move-the-world-danceactivism-presents-consumed/
LOCATION:Armory Center for the Arts\, 145 N Raymond Ave\, Pasadena\, CA\, 91103\, United States
CATEGORIES:Dance,Family friendly,Featured,Kids,Performance,Student,Video
ATTACH;FMTTYPE=image/jpeg:http://visionlafest.org/wp-content/uploads/2015/11/i_am_life_2012-3.jpg
ORGANIZER;CN="VisionLA Fest":MAILTO:info@visionlafest.org
END:VEVENT
BEGIN:VEVENT
DTSTART;TZID=America/Los_Angeles:20151202T203000
DTEND;TZID=America/Los_Angeles:20151202T203000
DTSTAMP:20260421T145932
CREATED:20151130T044740Z
LAST-MODIFIED:20151130T044818Z
UID:2002-1449088200-1449088200@visionlafest.org
SUMMARY:Racing Extinction Viewing Party
DESCRIPTION:Join us for a fun-filled viewing party of the Global Premiere of “Racing Extinction”\, Louie Psihoyos’ (“The Cove”) latest film.  A team of artists and activists expose a hidden world of never-before-seen images of how humans and climate change impact endangered species in the race toward a new mass extinction. For more information on the film: http://racingextinction.com \nWe’ll watch the global broadcast premiere while enjoying the company of environmental activists and concerned citizens in a festive evening celebrating action and ideas to stop the next mass extinction caused by humans and the effects of climate change. \nAdmission Free. No one under 21. Please purchase a beverage (wine\, beer\, non-alcoholic) or a snack. \nArrive early to get a good seat and share ideas about how to win the race against extinction. \nFree parking after 6 PM on the street and in the public lot on 7th Street behind Off the Vine. There is a walkway from the parking lot to 6th Street. \nTime: 8:30 PM to 10:45 PM\, film starts at 9
URL:http://visionlafest.org/event/racing-extinction-viewing-party/
LOCATION:Off the Vine\, 491 W. 6th Street\, Suite 103\, San Pedro\, CA\, 90731\, United States
CATEGORIES:Community art event,Video
ATTACH;FMTTYPE=image/jpeg:http://visionlafest.org/wp-content/uploads/2015/11/Racing-Extinction-Banner.jpg
ORGANIZER;CN="Terry duSoleil":MAILTO:villagearthfilms@gmail.com
END:VEVENT
BEGIN:VEVENT
DTSTART;TZID=America/Los_Angeles:20151202T200000
DTEND;TZID=America/Los_Angeles:20151202T200000
DTSTAMP:20260421T145932
CREATED:20151116T062424Z
LAST-MODIFIED:20151117T193218Z
UID:1657-1449086400-1449086400@visionlafest.org
SUMMARY:Green Shorts: Films (RE) Imagining Our Troubled World
DESCRIPTION:This is a collection of six short films directed\, performed and edited by student filmmakers from the Claremont Colleges produced by the Pomona College Theatre Department. This project is a collaboration with Climate Change Theatre Action using film as a vehicle to ignite awareness for our global society’s role in our environment. \n63 People in 4 Days by Jordan Hall\, Directed by Harrison Goodall \nEl Pescador y La Lluvia by Giovanni Ortega\, Directed by Evan De Lorenzo \nEarth Duet by EM Lewis\, Directed by Evan De Lorenzo \nStarving to Death in Midtown by Mindi Dickstein\, Directed by Evan De Lorenzo \nTess Talk by Darrah Cloud\, Directed by Brooklyn Robinson \nThem and Us by Deborah Asiimwe\, Directed by Angela Han \nSpecial Guests Attending: Student filmmakers from the Claremont Colleges \n 
URL:http://visionlafest.org/event/the-wisdom-to-survive-green-shorts-films-re-imagiining-our-troubled-world-2-2015-12-02/
LOCATION:Rose Hills Theatre Pomona College\, Claremont\, CA\, 91711\, United States
CATEGORIES:Film,Student,Video
ATTACH;FMTTYPE=image/png:http://visionlafest.org/wp-content/uploads/2015/11/GreenShorts-ArtCop21.png
END:VEVENT
BEGIN:VEVENT
DTSTART;TZID=America/Los_Angeles:20151201T200000
DTEND;TZID=America/Los_Angeles:20151201T200000
DTSTAMP:20260421T145932
CREATED:20151116T062424Z
LAST-MODIFIED:20151117T193218Z
UID:1650-1449000000-1449000000@visionlafest.org
SUMMARY:Green Shorts: Films (RE) Imagining Our Troubled World
DESCRIPTION:This is a collection of six short films directed\, performed and edited by student filmmakers from the Claremont Colleges produced by the Pomona College Theatre Department. This project is a collaboration with Climate Change Theatre Action using film as a vehicle to ignite awareness for our global society’s role in our environment. \n63 People in 4 Days by Jordan Hall\, Directed by Harrison Goodall \nEl Pescador y La Lluvia by Giovanni Ortega\, Directed by Evan De Lorenzo \nEarth Duet by EM Lewis\, Directed by Evan De Lorenzo \nStarving to Death in Midtown by Mindi Dickstein\, Directed by Evan De Lorenzo \nTess Talk by Darrah Cloud\, Directed by Brooklyn Robinson \nThem and Us by Deborah Asiimwe\, Directed by Angela Han \nSpecial Guests Attending: Student filmmakers from the Claremont Colleges \n 
URL:http://visionlafest.org/event/the-wisdom-to-survive-green-shorts-films-re-imagiining-our-troubled-world-2/
LOCATION:Rose Hills Theatre Pomona College\, Claremont\, CA\, 91711\, United States
CATEGORIES:Film,Student,Video
ATTACH;FMTTYPE=image/png:http://visionlafest.org/wp-content/uploads/2015/11/GreenShorts-ArtCop21.png
END:VEVENT
BEGIN:VEVENT
DTSTART;TZID=America/Los_Angeles:20151201T130000
DTEND;TZID=America/Los_Angeles:20151201T150000
DTSTAMP:20260421T145932
CREATED:20151113T225253Z
LAST-MODIFIED:20151128T234330Z
UID:1455-1448974800-1448982000@visionlafest.org
SUMMARY:Mesoamérica Resiste and Pollinating Ríos Vivos
DESCRIPTION:The Bees are back on tour with their giant\, portable murals! Beehive Collective’s graphics aim to draw out the connections between colonial history and present day struggles against corporate globalization\, violence\, and racism. The Beehive creates anti-copyright graphics as tools for popular analysis\, education\, and organizing. Our presentations and workshops offer an accessible format for unpacking the ways in which resource extraction\, militarization\, and industrial development in the Western Hemisphere are all interconnected in the same ‘big picture.’ \nThis presentation will highlight the Ríos Vivos Movement of Colombia\, the social movement of dam impacted communities that struggle for the defense of their territories and rivers\, the work of the Beehive’s Polinizaciones Process process that collaborates with communities impacted by resource extraction in the use of arts\, culture\, and communications as strategies for land defense\, Beehive graphic of Mesoamérica Resiste\, accompanied by photographs\, short films\, personal experiences\, and stories about the communities in resistance we have been weaving relationships of mutual aid with over the last eight years in Colombia. \nThis is a free event!
URL:http://visionlafest.org/event/mesoamerica-resiste-and-pollinating-rios-vivos/
LOCATION:Amity Foundation\, 3745 S Grand Ave\, Los Angeles\, CA\, 90007\, United States
CATEGORIES:Family friendly,Featured,Graphic design,Lecture,Multimedia,Murals,Photography,Video,Visual art
ATTACH;FMTTYPE=image/jpeg:http://visionlafest.org/wp-content/uploads/2015/11/market-crop-SM.jpg
END:VEVENT
BEGIN:VEVENT
DTSTART;VALUE=DATE:20151201
DTEND;VALUE=DATE:20151206
DTSTAMP:20260421T145932
CREATED:20151117T195146Z
LAST-MODIFIED:20151203T074144Z
UID:1713-1448928000-1449359999@visionlafest.org
SUMMARY:Water: A Necessary Conversation
DESCRIPTION:WATER: A NECESSARY CONVERSATION is an “Art as Activism” exhibition at Avenue 50 Studio in Los Angeles. Curated by art historian Susan M King\, it features select contemporary works and historical posters from the Collection of Center for the Study of Political Graphics. The exhibition includes artworks by over 25 contemporary artists working in an array of media including posters\, painting\, prints\, video\, and photography. \nThe exhibition brings together contemporary art and past posters focused on water as a vital and limited resource. The artworks chosen are meant as a social lever around a range of water conservation issues. As King notes: “While some of the contemporary art explicitly raises questions about the role of individuals and institutions in managing the current water crisis\, other works focus on personal observations and political concerns. The combination of past and present art underscores the enduring human need to manage water resources\, and the usefulness of art in conveying that message.” \nThe exhibition is sponsored by the Southern California Women’s Caucus for Art. \nGallery hours are: Tue-Thurs\, 10am-4pm and Sat-Sun\, 10am-4pm \nA closing conversation addressing short and long range solutions to the water crisis will be held on Saturday\, December 5\, 1:30-3:30pm. The panel will feature artists Mariona Barkus\, Danielle Eubank\, Brenda Hurst\, Ann Isolde and Sheila Pinkel from the collective “Artists Formerly Known as Women.” Curator Susan King will be the moderator.
URL:http://visionlafest.org/event/water-an-essential-conversation/
LOCATION:Avenue 50 Studio\, 131 North Avenue 50\, Highland Park\, CA\, 90042\, United States
CATEGORIES:Art exhibit,Gallery show,Graphic design,Multimedia,Panel discussion,Photography,Video,Visual art
ATTACH;FMTTYPE=image/jpeg:http://visionlafest.org/wp-content/uploads/2015/11/Danielle_Eubank_Above_Below_And_Manu_Smith_for_Greenpeace_Sink_To_Sea.jpg
ORGANIZER;CN="Susan King":MAILTO:artsandbooks@gmail.com
END:VEVENT
END:VCALENDAR